BEGIN:VCALENDAR
VERSION:2.0
PRODID:-//hacksw/handcal//NONSGML v1.0//EN
BEGIN:VEVENT
SUMMARY:Entrainement "Combat"- Zone Est (34)
UID:81ab4c10-3b18-45a0-9a53-e1e6ea4a65f8
DTSTART:20260509T140000Z
DTEND:20260509T160000Z
LOCATION:Localisation Maison Pour Tous Michel Colucci - 205, rue de Cheng Du 34070 Montpellier
CATEGORIES:Sportif
STATUS:
URL;VALUE=URI:https://www.taekwondo-occitanie.com/evenements/2026/05/09/entrainement-combat-zone-est-34-2439992
END:VEVENT
END:VCALENDAR
